Package: proteinProfiles Version: 1.48.0 Command: /Library/Frameworks/R.framework/Resources/bin/R CMD build --keep-empty-dirs --no-resave-data proteinProfiles StartedAt: 2025-10-07 07:14:54 -0400 (Tue, 07 Oct 2025) EndedAt: 2025-10-07 07:15:14 -0400 (Tue, 07 Oct 2025) EllapsedTime: 20.1 seconds RetCode: 0 Status: OK PackageFile: proteinProfiles_1.48.0.tar.gz PackageFileSize: 384.1 KiB