Package: protGear Version: 1.10.0 Command: /home/biocbuild/R/R/bin/R CMD INSTALL protGear StartedAt: 2025-01-30 21:06:52 -0000 (Thu, 30 Jan 2025) EndedAt: 2025-01-30 21:07:24 -0000 (Thu, 30 Jan 2025) EllapsedTime: 32.2 seconds RetCode: 0 Status: OK