Package: protGear Version: 1.12.0 Command: /Library/Frameworks/R.framework/Resources/bin/R CMD INSTALL protGear StartedAt: 2025-05-08 15:46:04 -0400 (Thu, 08 May 2025) EndedAt: 2025-05-08 15:46:33 -0400 (Thu, 08 May 2025) EllapsedTime: 28.7 seconds RetCode: 0 Status: OK