Package: protGear Version: 1.12.0 Command: rm -rf protGear.buildbin-libdir && mkdir protGear.buildbin-libdir && /Users/biocbuild/BBS/utils/build-universal.sh protGear_1.12.0.tar.gz /Library/Frameworks/R.framework/Resources/bin/R protGear.buildbin-libdir StartedAt: 2025-05-14 16:19:40 -0400 (Wed, 14 May 2025) EndedAt: 2025-05-14 16:20:13 -0400 (Wed, 14 May 2025) EllapsedTime: 33.9 seconds RetCode: 0 Status: OK PackageFile: protGear_1.12.0.tgz PackageFileSize: 3.932 MiB