Package: projectR Version: 1.22.0 Command: /home/biocbuild/R/R/bin/R CMD check --install=check:projectR.install-out.txt --library=/home/biocbuild/R/R/site-library --no-vignettes --timings projectR_1.22.0.tar.gz StartedAt: 2025-01-31 09:17:45 -0000 (Fri, 31 Jan 2025) EndedAt: 2025-01-31 09:20:40 -0000 (Fri, 31 Jan 2025) EllapsedTime: 175.1 seconds RetCode: 0 Status: OK CheckDir: projectR.Rcheck Warnings: 0