Package: progeny Version: 1.30.0 Command: /home/biocbuild/bbs-3.21-bioc/R/bin/R CMD build --keep-empty-dirs --no-resave-data progeny StartedAt: 2025-10-15 19:14:09 -0400 (Wed, 15 Oct 2025) EndedAt: 2025-10-15 19:14:26 -0400 (Wed, 15 Oct 2025) EllapsedTime: 17.0 seconds RetCode: 0 Status: OK PackageFile: progeny_1.30.0.tar.gz PackageFileSize: 10.15 MiB