Package: profileplyr Version: 1.22.0 Command: /home/biocbuild/R/R/bin/R CMD check --install=check:profileplyr.install-out.txt --library=/home/biocbuild/R/R/site-library --no-vignettes --timings profileplyr_1.22.0.tar.gz StartedAt: 2025-01-31 09:17:27 -0000 (Fri, 31 Jan 2025) EndedAt: 2025-01-31 09:26:01 -0000 (Fri, 31 Jan 2025) EllapsedTime: 513.4 seconds RetCode: 0 Status: OK CheckDir: profileplyr.Rcheck Warnings: 0