Package: profileplyr Version: 1.22.0 Command: /home/biocbuild/R/R/bin/R CMD build --keep-empty-dirs --no-resave-data profileplyr StartedAt: 2025-01-31 01:51:55 -0000 (Fri, 31 Jan 2025) EndedAt: 2025-01-31 01:54:55 -0000 (Fri, 31 Jan 2025) EllapsedTime: 180.2 seconds RetCode: 0 Status: OK PackageFile: profileplyr_1.22.0.tar.gz PackageFileSize: 2.275 MiB