Package: profileScoreDist Version: 1.34.0 Command: /home/biocbuild/R/R/bin/R CMD check --install=check:profileScoreDist.install-out.txt --library=/home/biocbuild/R/R/site-library --no-vignettes --timings profileScoreDist_1.34.0.tar.gz StartedAt: 2025-01-31 09:17:36 -0000 (Fri, 31 Jan 2025) EndedAt: 2025-01-31 09:18:17 -0000 (Fri, 31 Jan 2025) EllapsedTime: 41.0 seconds RetCode: 0 Status: OK CheckDir: profileScoreDist.Rcheck Warnings: 0