Package: procoil Version: 2.34.0 Command: /home/biocbuild/bbs-3.20-bioc/R/bin/R CMD INSTALL procoil StartedAt: 2025-01-30 15:13:31 -0500 (Thu, 30 Jan 2025) EndedAt: 2025-01-30 15:13:55 -0500 (Thu, 30 Jan 2025) EllapsedTime: 24.5 seconds RetCode: 0 Status: OK