Package: proDA Version: 1.22.0 Command: /Library/Frameworks/R.framework/Resources/bin/R CMD INSTALL proDA StartedAt: 2025-05-01 16:00:54 -0400 (Thu, 01 May 2025) EndedAt: 2025-05-01 16:01:42 -0400 (Thu, 01 May 2025) EllapsedTime: 48.0 seconds RetCode: 0 Status: OK