Package: proDA Version: 1.22.0 Command: /Library/Frameworks/R.framework/Resources/bin/R CMD check --install=check:proDA.install-out.txt --library=/Library/Frameworks/R.framework/Resources/library --no-vignettes --timings proDA_1.22.0.tar.gz StartedAt: 2025-04-21 22:44:59 -0400 (Mon, 21 Apr 2025) EndedAt: 2025-04-21 22:49:44 -0400 (Mon, 21 Apr 2025) EllapsedTime: 284.4 seconds RetCode: 0 Status: OK CheckDir: proDA.Rcheck Warnings: 0