Package: proDA Version: 1.22.0 Command: /Library/Frameworks/R.framework/Resources/bin/R CMD check --install=check:proDA.install-out.txt --library=/Library/Frameworks/R.framework/Resources/library --no-vignettes --timings proDA_1.22.0.tar.gz StartedAt: 2025-05-07 05:46:42 -0400 (Wed, 07 May 2025) EndedAt: 2025-05-07 05:51:15 -0400 (Wed, 07 May 2025) EllapsedTime: 272.8 seconds RetCode: 0 Status: OK CheckDir: proDA.Rcheck Warnings: 0