Package: proActiv Version: 1.16.0 Command: /home/biocbuild/R/R/bin/R CMD check --install=check:proActiv.install-out.txt --library=/home/biocbuild/R/R/site-library --no-vignettes --timings proActiv_1.16.0.tar.gz StartedAt: 2025-01-31 09:15:33 -0000 (Fri, 31 Jan 2025) EndedAt: 2025-01-31 09:22:32 -0000 (Fri, 31 Jan 2025) EllapsedTime: 418.3 seconds RetCode: 0 Status: OK CheckDir: proActiv.Rcheck Warnings: 0