Package: proActiv Version: 1.16.0 Command: rm -rf proActiv.buildbin-libdir && mkdir proActiv.buildbin-libdir && F:\biocbuild\bbs-3.20-bioc\R\bin\R.exe CMD INSTALL --build --library=proActiv.buildbin-libdir proActiv_1.16.0.tar.gz StartedAt: 2025-01-31 09:18:41 -0500 (Fri, 31 Jan 2025) EndedAt: 2025-01-31 09:19:46 -0500 (Fri, 31 Jan 2025) EllapsedTime: 65.4 seconds RetCode: 0 Status: OK PackageFile: proActiv_1.16.0.zip PackageFileSize: 2.669 MiB