Package: primirTSS Version: 1.24.0 Command: /home/biocbuild/bbs-3.20-bioc/R/bin/R CMD INSTALL primirTSS StartedAt: 2025-01-30 15:37:55 -0500 (Thu, 30 Jan 2025) EndedAt: 2025-01-30 15:38:56 -0500 (Thu, 30 Jan 2025) EllapsedTime: 60.9 seconds RetCode: 0 Status: OK