Package: primirTSS Version: 1.26.0 Command: /Library/Frameworks/R.framework/Resources/bin/R CMD INSTALL primirTSS StartedAt: 2025-05-08 16:28:12 -0400 (Thu, 08 May 2025) EndedAt: 2025-05-08 16:29:40 -0400 (Thu, 08 May 2025) EllapsedTime: 87.8 seconds RetCode: 0 Status: OK