Package: primirTSS Version: 1.26.0 Command: rm -rf primirTSS.buildbin-libdir && mkdir primirTSS.buildbin-libdir && /Users/biocbuild/BBS/utils/build-universal.sh primirTSS_1.26.0.tar.gz /Library/Frameworks/R.framework/Resources/bin/R primirTSS.buildbin-libdir StartedAt: 2025-04-22 01:01:05 -0400 (Tue, 22 Apr 2025) EndedAt: 2025-04-22 01:02:05 -0400 (Tue, 22 Apr 2025) EllapsedTime: 60.0 seconds RetCode: 0 Status: OK PackageFile: primirTSS_1.26.0.tgz PackageFileSize: 3.779 MiB