Package: primirTSS Version: 1.26.0 Command: /Library/Frameworks/R.framework/Resources/bin/R CMD INSTALL primirTSS StartedAt: 2025-04-21 15:26:33 -0400 (Mon, 21 Apr 2025) EndedAt: 2025-04-21 15:26:51 -0400 (Mon, 21 Apr 2025) EllapsedTime: 17.9 seconds RetCode: 0 Status: OK