Package: primirTSS Version: 1.26.0 Command: /Library/Frameworks/R.framework/Resources/bin/R CMD build --keep-empty-dirs --no-resave-data primirTSS StartedAt: 2025-05-02 06:10:20 -0400 (Fri, 02 May 2025) EndedAt: 2025-05-02 06:11:40 -0400 (Fri, 02 May 2025) EllapsedTime: 80.0 seconds RetCode: 0 Status: OK PackageFile: primirTSS_1.26.0.tar.gz PackageFileSize: 3.663 MiB