Package: preprocessCore Version: 1.68.0 Command: /home/biocbuild/bbs-3.20-bioc/R/bin/R CMD check --install=check:preprocessCore.install-out.txt --library=/home/biocbuild/bbs-3.20-bioc/R/site-library --timings preprocessCore_1.68.0.tar.gz StartedAt: 2024-11-20 07:40:46 -0500 (Wed, 20 Nov 2024) EndedAt: 2024-11-20 07:41:04 -0500 (Wed, 20 Nov 2024) EllapsedTime: 18.0 seconds RetCode: 0 Status: WARNINGS CheckDir: preprocessCore.Rcheck Warnings: 2