Package: preprocessCore Version: 1.70.0 Command: /Library/Frameworks/R.framework/Resources/bin/R CMD check --install=check:preprocessCore.install-out.txt --library=/Library/Frameworks/R.framework/Resources/library --no-vignettes --timings preprocessCore_1.70.0.tar.gz StartedAt: 2025-04-21 22:43:57 -0400 (Mon, 21 Apr 2025) EndedAt: 2025-04-21 22:44:25 -0400 (Mon, 21 Apr 2025) EllapsedTime: 27.5 seconds RetCode: 0 Status: WARNINGS CheckDir: preprocessCore.Rcheck Warnings: 2