Back to Multiple platform build/check report for BioC 3.22:   simplified   long
ABCDEFGHIJKLMNO[P]QRSTUVWXYZ

This page was generated on 2025-11-07 12:00 -0500 (Fri, 07 Nov 2025).

HostnameOSArch (*)R versionInstalled pkgs
nebbiolo2Linux (Ubuntu 24.04.3 LTS)x86_644.5.1 Patched (2025-08-23 r88802) -- "Great Square Root" 4902
kjohnson3macOS 13.7.7 Venturaarm644.5.1 Patched (2025-09-10 r88807) -- "Great Square Root" 4638
Click on any hostname to see more info about the system (e.g. compilers)      (*) as reported by 'uname -p', except on Windows and Mac OS X

All results for package preprocessCore


To the developers/maintainers of the preprocessCore package:
- Allow up to 24 hours (and sometimes 48 hours) for your latest push to git@git.bioconductor.org:packages/preprocessCore.git to reflect on this report. See Troubleshooting Build Report for more information.
- Use the following Renviron settings to reproduce errors and warnings.
- If 'R CMD check' started to fail recently on the Linux builder(s) over a missing dependency, add the missing dependency to 'Suggests:' in your DESCRIPTION file. See Renviron.bioc for more information.

raw results

Package 1638/2361HostnameOS / ArchINSTALLBUILDCHECKBUILD BIN
preprocessCore 1.72.0  (landing page)
Ben Bolstad
Snapshot Date: 2025-11-06 13:45 -0500 (Thu, 06 Nov 2025)
git_url: https://git.bioconductor.org/packages/preprocessCore
git_branch: RELEASE_3_22
git_last_commit: f8fc99a
git_last_commit_date: 2025-10-29 09:42:06 -0500 (Wed, 29 Oct 2025)
nebbiolo2Linux (Ubuntu 24.04.3 LTS) / x86_64  OK    OK    WARNINGS  UNNEEDED, same version is already published
kjohnson3macOS 13.7.7 Ventura / arm64  OK    OK    WARNINGS    OK  UNNEEDED, same version is already published



Results for Bioconductor software packages that depend directly on package preprocessCore

QUICK STATSOS / ArchINSTALLBUILDCHECKBUILD BIN
nebbiolo2Linux (Ubuntu 24.04.3 LTS) / x86_64
0240
0438
031124
kjohnson3macOS 13.7.7 Ventura / arm64
0240
0438
031025
0038
Package 1/42HostnameOS / ArchINSTALLBUILDCHECKBUILD BIN
affy 1.88.0  (landing page)
Robert D. Shear
git_last_commit: 229aef4
git_last_commit_date: 2025-10-29 09:42:08 -0500
nebbiolo2Linux (Ubuntu 24.04.3 LTS) / x86_64  OK    OK    WARNINGS  UNNEEDED, same version is already published
kjohnson3macOS 13.7.7 Ventura / arm64  OK    OK    WARNINGS    OK  UNNEEDED, same version is already published
Package 2/42HostnameOS / ArchINSTALLBUILDCHECKBUILD BIN
affyPLM 1.86.0  (landing page)
Ben Bolstad
git_last_commit: 8c46661
git_last_commit_date: 2025-10-29 09:53:58 -0500
nebbiolo2Linux (Ubuntu 24.04.3 LTS) / x86_64  OK    OK    WARNINGS  UNNEEDED, same version is already published
kjohnson3macOS 13.7.7 Ventura / arm64  OK    OK    OK    OK  UNNEEDED, same version is already published
Package 3/42HostnameOS / ArchINSTALLBUILDCHECKBUILD BIN
AgiMicroRna 2.60.0  (landing page)
Pedro Lopez-Romero
git_last_commit: 9611ae4
git_last_commit_date: 2025-10-29 10:03:34 -0500
nebbiolo2Linux (Ubuntu 24.04.3 LTS) / x86_64  OK    OK    WARNINGS  UNNEEDED, same version is already published
kjohnson3macOS 13.7.7 Ventura / arm64  OK    OK    WARNINGS    OK  UNNEEDED, same version is already published
Package 4/42HostnameOS / ArchINSTALLBUILDCHECKBUILD BIN
BloodGen3Module 1.18.0  (landing page)
Darawan Rinchai
git_last_commit: 6d48c98
git_last_commit_date: 2025-10-29 11:09:33 -0500
nebbiolo2Linux (Ubuntu 24.04.3 LTS) / x86_64  OK    OK    WARNINGS  UNNEEDED, same version is already published
kjohnson3macOS 13.7.7 Ventura / arm64  OK    OK    WARNINGS    OK  UNNEEDED, same version is already published
Package 5/42HostnameOS / ArchINSTALLBUILDCHECKBUILD BIN
bnbc 1.32.0  (landing page)
Kipper Fletez-Brant
git_last_commit: b9c6b77
git_last_commit_date: 2025-10-29 10:41:29 -0500
nebbiolo2Linux (Ubuntu 24.04.3 LTS) / x86_64  OK    OK    OK  UNNEEDED, same version is already published
kjohnson3macOS 13.7.7 Ventura / arm64  OK    OK    OK    OK  UNNEEDED, same version is already published
Package 6/42HostnameOS / ArchINSTALLBUILDCHECKBUILD BIN
ChAMP 2.40.0  (landing page)
Yuan Tian
git_last_commit: fa068cf
git_last_commit_date: 2025-10-29 10:17:05 -0500
nebbiolo2Linux (Ubuntu 24.04.3 LTS) / x86_64  OK    OK    WARNINGS  UNNEEDED, same version is already published
kjohnson3macOS 13.7.7 Ventura / arm64  OK    OK    WARNINGS    OK  UNNEEDED, same version is already published
Package 7/42HostnameOS / ArchINSTALLBUILDCHECKBUILD BIN
cn.farms 1.58.0  (landing page)
Andreas Mitterecker
git_last_commit: 547c019
git_last_commit_date: 2025-10-29 10:07:06 -0500
nebbiolo2Linux (Ubuntu 24.04.3 LTS) / x86_64  OK    OK    OK  UNNEEDED, same version is already published
kjohnson3macOS 13.7.7 Ventura / arm64  OK    OK    OK    OK  UNNEEDED, same version is already published
Package 8/42HostnameOS / ArchINSTALLBUILDCHECKBUILD BIN
CPSM 1.2.0  (landing page)
Harpreet Kaur
git_last_commit: 5c19f2f
git_last_commit_date: 2025-10-29 11:34:56 -0500
nebbiolo2Linux (Ubuntu 24.04.3 LTS) / x86_64  OK    OK    OK  UNNEEDED, same version is already published
kjohnson3macOS 13.7.7 Ventura / arm64  OK    OK    OK    OK  UNNEEDED, same version is already published
Package 9/42HostnameOS / ArchINSTALLBUILDCHECKBUILD BIN
crlmm 1.68.0  (landing page)
Benilton S Carvalho
git_last_commit: 7d8b5c6
git_last_commit_date: 2025-10-29 10:02:32 -0500
nebbiolo2Linux (Ubuntu 24.04.3 LTS) / x86_64  OK    OK    WARNINGS  UNNEEDED, same version is already published
kjohnson3macOS 13.7.7 Ventura / arm64  OK    OK    WARNINGS    OK  UNNEEDED, same version is already published
Package 10/42HostnameOS / ArchINSTALLBUILDCHECKBUILD BIN
crupR 1.2.0  (landing page)
Persia Akbari Omgba
git_last_commit: 01667b7
git_last_commit_date: 2025-10-29 11:36:29 -0500
nebbiolo2Linux (Ubuntu 24.04.3 LTS) / x86_64  OK    OK    OK  UNNEEDED, same version is already published
kjohnson3macOS 13.7.7 Ventura / arm64  OK    OK    OK    OK  UNNEEDED, same version is already published
Package 11/42HostnameOS / ArchINSTALLBUILDCHECKBUILD BIN
cypress 1.6.0  (landing page)
Shilin Yu
git_last_commit: 2c7153e
git_last_commit_date: 2025-10-29 11:29:05 -0500
nebbiolo2Linux (Ubuntu 24.04.3 LTS) / x86_64  OK    OK    OK  UNNEEDED, same version is already published
kjohnson3macOS 13.7.7 Ventura / arm64  OK    OK    OK    OK  UNNEEDED, same version is already published
Package 12/42HostnameOS / ArchINSTALLBUILDCHECKBUILD BIN
EMDomics 2.40.0  (landing page)
Sadhika Malladi and Daniel Schmolze
git_last_commit: 6076ee9
git_last_commit_date: 2025-10-29 10:26:01 -0500
nebbiolo2Linux (Ubuntu 24.04.3 LTS) / x86_64  OK    OK    OK  UNNEEDED, same version is already published
kjohnson3macOS 13.7.7 Ventura / arm64  OK    OK    OK    OK  UNNEEDED, same version is already published
Package 13/42HostnameOS / ArchINSTALLBUILDCHECKBUILD BIN
ExiMiR 2.52.0  (landing page)
Sylvain Gubian
git_last_commit: f23173f
git_last_commit_date: 2025-10-29 10:06:33 -0500
nebbiolo2Linux (Ubuntu 24.04.3 LTS) / x86_64  OK    OK    OK  UNNEEDED, same version is already published
kjohnson3macOS 13.7.7 Ventura / arm64  OK    OK    OK    OK  UNNEEDED, same version is already published
Package 14/42HostnameOS / ArchINSTALLBUILDCHECKBUILD BIN
fastLiquidAssociation 1.46.0  (landing page)
Tina Gunderson
git_last_commit: 457ccd1
git_last_commit_date: 2025-10-29 10:19:27 -0500
nebbiolo2Linux (Ubuntu 24.04.3 LTS) / x86_64  OK    OK    WARNINGS  UNNEEDED, same version is already published
kjohnson3macOS 13.7.7 Ventura / arm64  OK    OK    WARNINGS    OK  UNNEEDED, same version is already published
Package 15/42HostnameOS / ArchINSTALLBUILDCHECKBUILD BIN
frma 1.62.0  (landing page)
Matthew N. McCall
git_last_commit: 166b917
git_last_commit_date: 2025-10-29 10:04:07 -0500
nebbiolo2Linux (Ubuntu 24.04.3 LTS) / x86_64  OK    OK    OK  UNNEEDED, same version is already published
kjohnson3macOS 13.7.7 Ventura / arm64  OK    OK    OK    OK  UNNEEDED, same version is already published
Package 16/42HostnameOS / ArchINSTALLBUILDCHECKBUILD BIN
frmaTools 1.62.0  (landing page)
Matthew N. McCall
git_last_commit: b25f55e
git_last_commit_date: 2025-10-29 10:04:10 -0500
nebbiolo2Linux (Ubuntu 24.04.3 LTS) / x86_64  OK    OK    OK  UNNEEDED, same version is already published
kjohnson3macOS 13.7.7 Ventura / arm64  OK    OK    OK    OK  UNNEEDED, same version is already published
Package 17/42HostnameOS / ArchINSTALLBUILDCHECKBUILD BIN
hipathia 3.10.0  (landing page)
Marta R. Hidalgo
git_last_commit: 73629a5
git_last_commit_date: 2025-10-29 10:44:56 -0500
nebbiolo2Linux (Ubuntu 24.04.3 LTS) / x86_64  OK    ERROR  skipped
kjohnson3macOS 13.7.7 Ventura / arm64  OK    ERROR  skippedskipped
Package 18/42HostnameOS / ArchINSTALLBUILDCHECKBUILD BIN
iCheck 1.40.0  (landing page)
Weiliang Qiu
git_last_commit: 109cb15
git_last_commit_date: 2025-10-29 10:28:02 -0500
nebbiolo2Linux (Ubuntu 24.04.3 LTS) / x86_64  OK    OK    OK  UNNEEDED, same version is already published
kjohnson3macOS 13.7.7 Ventura / arm64  OK    OK    OK    OK  UNNEEDED, same version is already published
Package 19/42HostnameOS / ArchINSTALLBUILDCHECKBUILD BIN
InPAS 2.18.0  (landing page)
Jianhong Ou
git_last_commit: b015763
git_last_commit_date: 2025-10-29 10:24:45 -0500
nebbiolo2Linux (Ubuntu 24.04.3 LTS) / x86_64  OK    OK    WARNINGS  UNNEEDED, same version is already published
kjohnson3macOS 13.7.7 Ventura / arm64  OK    OK    WARNINGS    OK  UNNEEDED, same version is already published
Package 20/42HostnameOS / ArchINSTALLBUILDCHECKBUILD BIN
lumi 2.62.0  (landing page)
Lei Huang
git_last_commit: 1123e59
git_last_commit_date: 2025-10-29 09:58:49 -0500
nebbiolo2Linux (Ubuntu 24.04.3 LTS) / x86_64  OK    OK    WARNINGS  UNNEEDED, same version is already published
kjohnson3macOS 13.7.7 Ventura / arm64  OK    OK    WARNINGS    OK  UNNEEDED, same version is already published
Package 21/42HostnameOS / ArchINSTALLBUILDCHECKBUILD BIN
MADSEQ 1.36.0  (landing page)
Yu Kong
git_last_commit: 856530e
git_last_commit_date: 2025-10-29 10:32:36 -0500
nebbiolo2Linux (Ubuntu 24.04.3 LTS) / x86_64  ERROR    ERROR  skipped
kjohnson3macOS 13.7.7 Ventura / arm64  ERROR    ERROR  skippedskipped
Package 22/42HostnameOS / ArchINSTALLBUILDCHECKBUILD BIN
MBCB 1.64.0  (landing page)
Bo Yao
git_last_commit: 926ff14
git_last_commit_date: 2025-10-29 10:05:23 -0500
nebbiolo2Linux (Ubuntu 24.04.3 LTS) / x86_64  OK    OK    OK  UNNEEDED, same version is already published
kjohnson3macOS 13.7.7 Ventura / arm64  OK    OK    OK    OK  UNNEEDED, same version is already published
Package 23/42HostnameOS / ArchINSTALLBUILDCHECKBUILD BIN
MBQN 2.22.0  (landing page)
Eva Brombacher
git_last_commit: a7445d7
git_last_commit_date: 2025-10-29 10:55:13 -0500
nebbiolo2Linux (Ubuntu 24.04.3 LTS) / x86_64  OK    OK    OK  UNNEEDED, same version is already published
kjohnson3macOS 13.7.7 Ventura / arm64  OK    OK    OK    OK  UNNEEDED, same version is already published
Package 24/42HostnameOS / ArchINSTALLBUILDCHECKBUILD BIN
MEDIPS 1.62.0  (landing page)
Lukas Chavez
git_last_commit: 8748557
git_last_commit_date: 2025-10-29 10:06:09 -0500
nebbiolo2Linux (Ubuntu 24.04.3 LTS) / x86_64  OK    OK    OK  UNNEEDED, same version is already published
kjohnson3macOS 13.7.7 Ventura / arm64  OK    OK    OK    OK  UNNEEDED, same version is already published
Package 25/42HostnameOS / ArchINSTALLBUILDCHECKBUILD BIN
methylclock 1.16.0  (landing page)
Dolors Pelegri-Siso
git_last_commit: 79b4e8b
git_last_commit_date: 2025-10-29 11:10:33 -0500
nebbiolo2Linux (Ubuntu 24.04.3 LTS) / x86_64  OK    OK    OK  UNNEEDED, same version is already published
kjohnson3macOS 13.7.7 Ventura / arm64  OK    OK    OK    OK  UNNEEDED, same version is already published
Package 26/42HostnameOS / ArchINSTALLBUILDCHECKBUILD BIN
mimager 1.34.0  (landing page)
Aaron Wolen
git_last_commit: f6a1e99
git_last_commit_date: 2025-10-29 10:36:18 -0500
nebbiolo2Linux (Ubuntu 24.04.3 LTS) / x86_64  OK    OK    OK  UNNEEDED, same version is already published
kjohnson3macOS 13.7.7 Ventura / arm64  OK    OK    OK    OK  UNNEEDED, same version is already published
Package 27/42HostnameOS / ArchINSTALLBUILDCHECKBUILD BIN
minfi 1.56.0  (landing page)
Kasper Daniel Hansen
git_last_commit: e6780b4
git_last_commit_date: 2025-10-29 10:09:18 -0500
nebbiolo2Linux (Ubuntu 24.04.3 LTS) / x86_64  OK    OK    OK  UNNEEDED, same version is already published
kjohnson3macOS 13.7.7 Ventura / arm64  OK    OK    OK    OK  UNNEEDED, same version is already published
Package 28/42HostnameOS / ArchINSTALLBUILDCHECKBUILD BIN
MSPrep 1.20.0  (landing page)
Max McGrath
git_last_commit: 48147f9
git_last_commit_date: 2025-10-29 11:02:54 -0500
nebbiolo2Linux (Ubuntu 24.04.3 LTS) / x86_64  OK    OK    ERROR  
kjohnson3macOS 13.7.7 Ventura / arm64  OK    OK    ERROR    OK  
Package 29/42HostnameOS / ArchINSTALLBUILDCHECKBUILD BIN
MSstats 4.18.0  (landing page)
Meena Choi
git_last_commit: 1173853
git_last_commit_date: 2025-10-29 10:16:50 -0500
nebbiolo2Linux (Ubuntu 24.04.3 LTS) / x86_64  OK    OK    WARNINGS  UNNEEDED, same version is already published
kjohnson3macOS 13.7.7 Ventura / arm64  OK    OK    WARNINGS    OK  UNNEEDED, same version is already published
Package 30/42HostnameOS / ArchINSTALLBUILDCHECKBUILD BIN
netZooR 1.14.0  (landing page)
Marouen Ben Guebila
git_last_commit: 5f3b18e
git_last_commit_date: 2025-10-29 11:14:04 -0500
nebbiolo2Linux (Ubuntu 24.04.3 LTS) / x86_64  ERROR    ERROR  skipped
kjohnson3macOS 13.7.7 Ventura / arm64  ERROR    ERROR  skippedskipped
Package 31/42HostnameOS / ArchINSTALLBUILDCHECKBUILD BIN
NormalyzerDE 1.28.0  (landing page)
Jakob Willforss
git_last_commit: 93b5996
git_last_commit_date: 2025-10-29 10:47:24 -0500
nebbiolo2Linux (Ubuntu 24.04.3 LTS) / x86_64  OK    OK    WARNINGS  UNNEEDED, same version is already published
kjohnson3macOS 13.7.7 Ventura / arm64  OK    OK    WARNINGS    OK  UNNEEDED, same version is already published
Package 32/42HostnameOS / ArchINSTALLBUILDCHECKBUILD BIN
oligo 1.74.0  (landing page)
Benilton Carvalho
git_last_commit: 03318a4
git_last_commit_date: 2025-10-29 09:56:42 -0500
nebbiolo2Linux (Ubuntu 24.04.3 LTS) / x86_64  OK    OK    OK  UNNEEDED, same version is already published
kjohnson3macOS 13.7.7 Ventura / arm64  OK    OK    OK    OK  UNNEEDED, same version is already published
Package 33/42HostnameOS / ArchINSTALLBUILDCHECKBUILD BIN
PanomiR 1.14.0  (landing page)
Pourya Naderi
git_last_commit: ec73906
git_last_commit_date: 2025-10-29 11:14:47 -0500
nebbiolo2Linux (Ubuntu 24.04.3 LTS) / x86_64  OK    OK    OK  UNNEEDED, same version is already published
kjohnson3macOS 13.7.7 Ventura / arm64  OK    OK    OK    OK  UNNEEDED, same version is already published
Package 34/42HostnameOS / ArchINSTALLBUILDCHECKBUILD BIN
PECA 1.46.0  (landing page)
Tomi Suomi
git_last_commit: ea1bf85
git_last_commit_date: 2025-10-29 10:17:25 -0500
nebbiolo2Linux (Ubuntu 24.04.3 LTS) / x86_64  OK    OK    OK  UNNEEDED, same version is already published
kjohnson3macOS 13.7.7 Ventura / arm64  OK    OK    OK    OK  UNNEEDED, same version is already published
Package 35/42HostnameOS / ArchINSTALLBUILDCHECKBUILD BIN
PhosR 1.20.0  (landing page)
Di Xiao
git_last_commit: d795fca
git_last_commit_date: 2025-10-29 11:02:33 -0500
nebbiolo2Linux (Ubuntu 24.04.3 LTS) / x86_64  OK    OK    OK  UNNEEDED, same version is already published
kjohnson3macOS 13.7.7 Ventura / arm64  OK    OK    OK    OK  UNNEEDED, same version is already published
Package 36/42HostnameOS / ArchINSTALLBUILDCHECKBUILD BIN
Pigengene 1.36.0  (landing page)
Habil Zare
git_last_commit: 98253f3
git_last_commit_date: 2025-10-29 10:32:29 -0500
nebbiolo2Linux (Ubuntu 24.04.3 LTS) / x86_64  OK    OK    ERROR  
kjohnson3macOS 13.7.7 Ventura / arm64  OK    OK    ERROR    OK  
Package 37/42HostnameOS / ArchINSTALLBUILDCHECKBUILD BIN
PRONE 1.4.0  (landing page)
Lis Arend
git_last_commit: 2b31a49
git_last_commit_date: 2025-10-29 11:32:38 -0500
nebbiolo2Linux (Ubuntu 24.04.3 LTS) / x86_64  OK    OK    OK  UNNEEDED, same version is already published
kjohnson3macOS 13.7.7 Ventura / arm64  OK    OK    OK    OK  UNNEEDED, same version is already published
Package 38/42HostnameOS / ArchINSTALLBUILDCHECKBUILD BIN
qPLEXanalyzer 1.28.0  (landing page)
Ashley Sawle
git_last_commit: 73100d7
git_last_commit_date: 2025-10-29 10:46:08 -0500
nebbiolo2Linux (Ubuntu 24.04.3 LTS) / x86_64  OK    ERROR  skipped
kjohnson3macOS 13.7.7 Ventura / arm64  OK    ERROR  skippedskipped
Package 39/42HostnameOS / ArchINSTALLBUILDCHECKBUILD BIN
quantiseqr 1.18.0  (landing page)
Federico Marini
git_last_commit: 4091b22
git_last_commit_date: 2025-10-29 11:08:45 -0500
nebbiolo2Linux (Ubuntu 24.04.3 LTS) / x86_64  OK    OK    OK  UNNEEDED, same version is already published
kjohnson3macOS 13.7.7 Ventura / arm64  OK    OK    OK    OK  UNNEEDED, same version is already published
Package 40/42HostnameOS / ArchINSTALLBUILDCHECKBUILD BIN
sesame 1.28.0  (landing page)
Wanding Zhou
git_last_commit: f0f05cb
git_last_commit_date: 2025-10-29 10:46:05 -0500
nebbiolo2Linux (Ubuntu 24.04.3 LTS) / x86_64  OK    OK    OK  UNNEEDED, same version is already published
kjohnson3macOS 13.7.7 Ventura / arm64  OK    OK    OK    OK  UNNEEDED, same version is already published
Package 41/42HostnameOS / ArchINSTALLBUILDCHECKBUILD BIN
soGGi 1.42.0  (landing page)
Tom Carroll
git_last_commit: 857d021
git_last_commit_date: 2025-10-29 10:25:37 -0500
nebbiolo2Linux (Ubuntu 24.04.3 LTS) / x86_64  OK    OK    ERROR  
kjohnson3macOS 13.7.7 Ventura / arm64  OK    OK    ERROR    OK  
Package 42/42HostnameOS / ArchINSTALLBUILDCHECKBUILD BIN
yarn 1.36.0  (landing page)
Joseph N Paulson
git_last_commit: ade31dd
git_last_commit_date: 2025-10-29 10:35:35 -0500
nebbiolo2Linux (Ubuntu 24.04.3 LTS) / x86_64  OK    OK    OK  UNNEEDED, same version is already published
kjohnson3macOS 13.7.7 Ventura / arm64  OK    OK    OK    OK  UNNEEDED, same version is already published