Package: prebs Version: 1.48.0 Command: /home/biocbuild/bbs-3.21-bioc/R/bin/R CMD build --keep-empty-dirs --no-resave-data prebs StartedAt: 2025-09-28 19:24:42 -0400 (Sun, 28 Sep 2025) EndedAt: 2025-09-28 19:27:20 -0400 (Sun, 28 Sep 2025) EllapsedTime: 158.1 seconds RetCode: 0 Status: OK PackageFile: prebs_1.48.0.tar.gz PackageFileSize: 282.9 KiB