Package: pram Version: 1.22.0 Command: /home/biocbuild/R/R/bin/R CMD INSTALL pram StartedAt: 2025-02-10 20:26:48 -0000 (Mon, 10 Feb 2025) EndedAt: 2025-02-10 20:27:27 -0000 (Mon, 10 Feb 2025) EllapsedTime: 38.7 seconds RetCode: 0 Status: OK