Package: ppcseq Version: 1.16.0 Command: /home/biocbuild/bbs-3.21-bioc/R/bin/R CMD build --keep-empty-dirs --no-resave-data ppcseq StartedAt: 2025-10-15 19:11:49 -0400 (Wed, 15 Oct 2025) EndedAt: 2025-10-15 19:25:48 -0400 (Wed, 15 Oct 2025) EllapsedTime: 838.9 seconds RetCode: 0 Status: OK PackageFile: ppcseq_1.16.0.tar.gz PackageFileSize: 2.04 MiB