Package: ppcseq Version: 1.16.0 Maintainer: Stefano Mangiola MaintainerEmail: mangiolastefano at gmail.com git_url: https://git.bioconductor.org/packages/ppcseq git_branch: RELEASE_3_21 git_last_commit: 0caced2 git_last_commit_date: 2025-04-15 12:27:10 -0400 (Tue, 15 Apr 2025)