Package: podkat Version: 1.38.0 Command: /home/biocbuild/R/R/bin/R CMD check --install=check:podkat.install-out.txt --library=/home/biocbuild/R/R/site-library --no-vignettes --timings podkat_1.38.0.tar.gz StartedAt: 2025-01-31 09:12:53 -0000 (Fri, 31 Jan 2025) EndedAt: 2025-01-31 09:18:52 -0000 (Fri, 31 Jan 2025) EllapsedTime: 359.3 seconds RetCode: 0 Status: OK CheckDir: podkat.Rcheck Warnings: 0