Package: pmp Version: 1.20.0 Command: E:\biocbuild\bbs-3.21-bioc\R\bin\R.exe CMD INSTALL pmp StartedAt: 2025-08-14 17:06:58 -0400 (Thu, 14 Aug 2025) EndedAt: 2025-08-14 17:07:31 -0400 (Thu, 14 Aug 2025) EllapsedTime: 32.8 seconds RetCode: 0 Status: OK