Package: pmp Version: 1.20.0 Maintainer: Gavin Rhys Lloyd MaintainerEmail: g.r.lloyd at bham.ac.uk git_url: https://git.bioconductor.org/packages/pmp git_branch: RELEASE_3_21 git_last_commit: 3151807 git_last_commit_date: 2025-04-15 11:53:47 -0400 (Tue, 15 Apr 2025)