Package: pmm Version: 1.42.0 Command: /home/biocbuild/bbs-3.22-bioc/R/bin/R CMD INSTALL pmm StartedAt: 2025-11-14 15:12:10 -0500 (Fri, 14 Nov 2025) EndedAt: 2025-11-14 15:12:24 -0500 (Fri, 14 Nov 2025) EllapsedTime: 14.5 seconds RetCode: 0 Status: OK