Package: pmm Version: 1.42.0 Command: /home/biocbuild/bbs-3.22-bioc/R/bin/R CMD build --keep-empty-dirs --no-resave-data --md5 pmm StartedAt: 2025-11-14 19:25:54 -0500 (Fri, 14 Nov 2025) EndedAt: 2025-11-14 19:26:17 -0500 (Fri, 14 Nov 2025) EllapsedTime: 23.0 seconds RetCode: 0 Status: OK PackageFile: pmm_1.42.0.tar.gz PackageFileSize: 777.2 KiB