Package: pmm Version: 1.40.0 Command: rm -rf pmm.buildbin-libdir && mkdir pmm.buildbin-libdir && /Users/biocbuild/BBS/utils/build-universal.sh pmm_1.40.0.tar.gz /Library/Frameworks/R.framework/Resources/bin/R pmm.buildbin-libdir StartedAt: 2025-10-07 14:08:17 -0400 (Tue, 07 Oct 2025) EndedAt: 2025-10-07 14:08:40 -0400 (Tue, 07 Oct 2025) EllapsedTime: 23.5 seconds RetCode: 0 Status: OK PackageFile: pmm_1.40.0.tgz PackageFileSize: 809.4 KiB