Package: plotgardener Version: 1.12.0 Command: /home/biocbuild/R/R/bin/R CMD check --install=check:plotgardener.install-out.txt --library=/home/biocbuild/R/R/site-library --no-vignettes --timings plotgardener_1.12.0.tar.gz StartedAt: 2025-01-31 09:11:38 -0000 (Fri, 31 Jan 2025) EndedAt: 2025-01-31 09:21:46 -0000 (Fri, 31 Jan 2025) EllapsedTime: 608.5 seconds RetCode: 0 Status: OK CheckDir: plotgardener.Rcheck Warnings: 0