Package: plotgardener Version: 1.14.0 Maintainer: Nicole Kramer MaintainerEmail: nekramer27 at gmail.com git_url: https://git.bioconductor.org/packages/plotgardener git_branch: RELEASE_3_21 git_last_commit: f5d39c8 git_last_commit_date: 2025-04-15 12:37:13 -0400 (Tue, 15 Apr 2025)