Package: plotGrouper Version: 1.24.0 Command: /home/biocbuild/R/R/bin/R CMD INSTALL plotGrouper StartedAt: 2025-01-30 21:05:52 -0000 (Thu, 30 Jan 2025) EndedAt: 2025-01-30 21:06:00 -0000 (Thu, 30 Jan 2025) EllapsedTime: 7.5 seconds RetCode: 0 Status: OK