Package: plier Version: 1.76.0 Command: /home/biocbuild/R/R/bin/R CMD build --keep-empty-dirs --no-resave-data plier StartedAt: 2025-01-31 01:48:01 -0000 (Fri, 31 Jan 2025) EndedAt: 2025-01-31 01:48:02 -0000 (Fri, 31 Jan 2025) EllapsedTime: 1.0 seconds RetCode: 0 Status: OK PackageFile: plier_1.76.0.tar.gz PackageFileSize: 20.32 KiB