Package: plgem Version: 1.80.0 Command: chmod a+r plgem -R && E:\biocbuild\bbs-3.21-bioc\R\bin\R.exe CMD build --keep-empty-dirs --no-resave-data plgem StartedAt: 2025-08-14 21:19:45 -0400 (Thu, 14 Aug 2025) EndedAt: 2025-08-14 21:20:08 -0400 (Thu, 14 Aug 2025) EllapsedTime: 23.4 seconds RetCode: 0 Status: OK PackageFile: plgem_1.80.0.tar.gz PackageFileSize: 920.6 KiB