Package: plgem Version: 1.80.0 Maintainer: Norman Pavelka MaintainerEmail: normanpavelka at gmail.com git_url: https://git.bioconductor.org/packages/plgem git_branch: RELEASE_3_21 git_last_commit: 67c49da git_last_commit_date: 2025-04-15 09:36:08 -0400 (Tue, 15 Apr 2025)