Package: plasmut Version: 1.6.0 Command: /home/biocbuild/R/R/bin/R CMD INSTALL plasmut StartedAt: 2025-05-05 20:21:10 -0000 (Mon, 05 May 2025) EndedAt: 2025-05-05 20:21:20 -0000 (Mon, 05 May 2025) EllapsedTime: 10.6 seconds RetCode: 0 Status: OK