Package: plasmut Version: 1.6.0 Command: /home/biocbuild/R/R/bin/R CMD build --keep-empty-dirs --no-resave-data plasmut StartedAt: 2025-05-09 03:20:28 -0000 (Fri, 09 May 2025) EndedAt: 2025-05-09 03:23:31 -0000 (Fri, 09 May 2025) EllapsedTime: 182.2 seconds RetCode: 0 Status: OK PackageFile: plasmut_1.6.0.tar.gz PackageFileSize: 360.2 KiB