Package: plasmut Version: 1.6.0 Command: /Library/Frameworks/R.framework/Resources/bin/R CMD INSTALL plasmut StartedAt: 2025-05-08 15:24:15 -0400 (Thu, 08 May 2025) EndedAt: 2025-05-08 15:24:19 -0400 (Thu, 08 May 2025) EllapsedTime: 4.2 seconds RetCode: 0 Status: OK