Package: plasmut Version: 1.6.0 Command: /Library/Frameworks/R.framework/Resources/bin/R CMD check --install=check:plasmut.install-out.txt --library=/Library/Frameworks/R.framework/Resources/library --no-vignettes --timings plasmut_1.6.0.tar.gz StartedAt: 2025-05-10 04:48:04 -0400 (Sat, 10 May 2025) EndedAt: 2025-05-10 04:48:36 -0400 (Sat, 10 May 2025) EllapsedTime: 31.7 seconds RetCode: 0 Status: OK CheckDir: plasmut.Rcheck Warnings: 0