Package: planttfhunter Version: 1.6.0 Command: /home/biocbuild/R/R/bin/R CMD check --install=check:planttfhunter.install-out.txt --library=/home/biocbuild/R/R/site-library --no-vignettes --timings planttfhunter_1.6.0.tar.gz StartedAt: 2025-01-31 09:10:41 -0000 (Fri, 31 Jan 2025) EndedAt: 2025-01-31 09:13:55 -0000 (Fri, 31 Jan 2025) EllapsedTime: 194.2 seconds RetCode: 0 Status: OK CheckDir: planttfhunter.Rcheck Warnings: 0