Package: planttfhunter Version: 1.8.0 Command: E:\biocbuild\bbs-3.21-bioc\R\bin\R.exe CMD INSTALL planttfhunter StartedAt: 2025-08-14 17:02:41 -0400 (Thu, 14 Aug 2025) EndedAt: 2025-08-14 17:03:34 -0400 (Thu, 14 Aug 2025) EllapsedTime: 53.0 seconds RetCode: 0 Status: OK