Package: pickgene Version: 1.80.0 Command: rm -rf pickgene.buildbin-libdir && mkdir pickgene.buildbin-libdir && /Users/biocbuild/BBS/utils/build-universal.sh pickgene_1.80.0.tar.gz /Library/Frameworks/R.framework/Resources/bin/R pickgene.buildbin-libdir StartedAt: 2025-05-14 16:14:00 -0400 (Wed, 14 May 2025) EndedAt: 2025-05-14 16:14:04 -0400 (Wed, 14 May 2025) EllapsedTime: 4.5 seconds RetCode: 0 Status: OK PackageFile: pickgene_1.80.0.tgz PackageFileSize: 398.9 KiB