Package: phosphonormalizer Version: 1.32.0 Command: /Library/Frameworks/R.framework/Resources/bin/R CMD build --keep-empty-dirs --no-resave-data phosphonormalizer StartedAt: 2025-05-22 21:24:19 -0400 (Thu, 22 May 2025) EndedAt: 2025-05-22 21:24:43 -0400 (Thu, 22 May 2025) EllapsedTime: 24.1 seconds RetCode: 0 Status: OK PackageFile: phosphonormalizer_1.32.0.tar.gz PackageFileSize: 2.7 MiB