Package: phosphonormalizer Version: 1.32.0 Command: /home/biocbuild/R/R/bin/R CMD INSTALL phosphonormalizer StartedAt: 2025-05-22 20:14:59 -0000 (Thu, 22 May 2025) EndedAt: 2025-05-22 20:15:12 -0000 (Thu, 22 May 2025) EllapsedTime: 13.4 seconds RetCode: 0 Status: OK