Package: phenopath Version: 1.32.0 Command: /Library/Frameworks/R.framework/Resources/bin/R CMD build --keep-empty-dirs --no-resave-data phenopath StartedAt: 2025-05-13 05:45:41 -0400 (Tue, 13 May 2025) EndedAt: 2025-05-13 05:46:39 -0400 (Tue, 13 May 2025) EllapsedTime: 58.3 seconds RetCode: 0 Status: OK PackageFile: phenopath_1.32.0.tar.gz PackageFileSize: 1.307 MiB