Package: phenopath Version: 1.32.0 Maintainer: Kieran Campbell MaintainerEmail: kieranrcampbell at gmail.com git_url: https://git.bioconductor.org/packages/phenopath git_branch: RELEASE_3_21 git_last_commit: fc4b5ba git_last_commit_date: 2025-04-15 11:12:11 -0400 (Tue, 15 Apr 2025)